BEGIN:VCALENDAR
VERSION:2.0
PRODID:-//Endless Mountains Heritage Region - ECPv6.15.20//NONSGML v1.0//EN
CALSCALE:GREGORIAN
METHOD:PUBLISH
X-WR-CALNAME:Endless Mountains Heritage Region
X-ORIGINAL-URL:https://emheritage.org
X-WR-CALDESC:Events for Endless Mountains Heritage Region
REFRESH-INTERVAL;VALUE=DURATION:PT1H
X-Robots-Tag:noindex
X-PUBLISHED-TTL:PT1H
BEGIN:VTIMEZONE
TZID:America/New_York
BEGIN:DAYLIGHT
TZOFFSETFROM:-0500
TZOFFSETTO:-0400
TZNAME:EDT
DTSTART:20240310T070000
END:DAYLIGHT
BEGIN:STANDARD
TZOFFSETFROM:-0400
TZOFFSETTO:-0500
TZNAME:EST
DTSTART:20241103T060000
END:STANDARD
BEGIN:DAYLIGHT
TZOFFSETFROM:-0500
TZOFFSETTO:-0400
TZNAME:EDT
DTSTART:20250309T070000
END:DAYLIGHT
BEGIN:STANDARD
TZOFFSETFROM:-0400
TZOFFSETTO:-0500
TZNAME:EST
DTSTART:20251102T060000
END:STANDARD
BEGIN:DAYLIGHT
TZOFFSETFROM:-0500
TZOFFSETTO:-0400
TZNAME:EDT
DTSTART:20260308T070000
END:DAYLIGHT
BEGIN:STANDARD
TZOFFSETFROM:-0400
TZOFFSETTO:-0500
TZNAME:EST
DTSTART:20261101T060000
END:STANDARD
END:VTIMEZONE
BEGIN:VEVENT
DTSTART;VALUE=DATE:20250816
DTEND;VALUE=DATE:20250818
DTSTAMP:20260424T133028
CREATED:20250227T143427Z
LAST-MODIFIED:20250408T153350Z
UID:2875-1755302400-1755475199@emheritage.org
SUMMARY:Hike the D&H Rail Trail with EMHR and the Rail Trail Council of NEPA
DESCRIPTION:Register Now\n			\n				\n				\n				\n				\n				Come join Endless Mountains Heritage Region as we make our way to Susquehanna County to experience the D&H Rail Trail! This overnight two-day hike will begin at the Thompson trail head on Saturday\, August 16\, at 11 a.m. to check-in. We ask you please park near Twin Ponds on Perry Road (41.857054\, -75.538511) in Thompson. \nThe first day of this hiking adventure will begin after registration and will be approximately 9 miles on a flat route\, led by a member of the Rail Trail Council. We will walk north to Buck Falls\, stop for a late lunch/break\, and return back to the Thompson trailhead. Please pack your own lunch/snacks for the trail. \nOvernight accommodations can be found at Olivia House (126 Rockwell Rd\, Susquehanna\, PA 18847). Overnight supplies are also needed to camp: a tent\, sleeping bag\, etc. The evening will be filled with games\, food\, campfire and fellowship. Dinner will be provided by a local restaurant and will be served at approximately 6 p.m. \nOn Sunday\, we will depart from the Luciana Park in Lanesboro and travel South to Brandt Gorge by 8:30 a.m.\, again led by the Rail Trail Council on an easy and somewhat flat route. This hike will be about 5 miles. Please plan accordingly for lunch or snacks again this day. \nThe cost to attend this event is $10\, which will help support a local restaurant in Susquehanna County. \n			\n				Register Now
URL:https://emheritage.org/event/hike-the-dh-rail-trail-with-emhr-and-the-rail-trail-council-of-nepa/
LOCATION:VF46+RHH Thompson\, Pennsylvania\, VF46+RHH\, Thompson\, Pennsylvania
CATEGORIES:Events with Camping Options,Hiking
ATTACH;FMTTYPE=image/jpeg:https://emheritage.org/wp-content/uploads/2025/02/Hike-the-DH-Rail-Trail.jpg
END:VEVENT
BEGIN:VEVENT
DTSTART;VALUE=DATE:20250726
DTEND;VALUE=DATE:20250728
DTSTAMP:20260424T133028
CREATED:20250218T133900Z
LAST-MODIFIED:20250408T151855Z
UID:2719-1753488000-1753660799@emheritage.org
SUMMARY:Small Business Support Hikes: Mt. Pisgah
DESCRIPTION:Register Now\n			\n				\n				\n				\n				\n				** This event that was originally scheduled for April has been postponed until July 26-27\, 2025 ** \n Join Endless Mountains Heritage Region on its first of four Small Business Support Hikes in which we support our local businesses! This two-day hike will be on Saturday\, July 26 and Sunday\, July 27\, 2025\, at Mt. Pisgah County Park (2181 Wilcox Drive\, Troy\, PA 16947) and will lead participants from the county park to the state park on several combined trails throughout each park. Check-in for this event begins at 12 p.m. at the top of the county park (41.8101943\, -76.7164631). \nSaturday’s hiking mileage will be approximately 7 miles\, combining the Ridge Trail (trail that connects the county and state parks) along with smaller trails off the Oh! Susanna Trail. The Ridge Trail is considered moderate. \nHikers have the option of resting after the day hike\, visiting the local area\, or joining us for a night hike as well under the full moon Saturday evening. Overnight supplies are also needed to camp: a tent\, sleeping bag\, flashlights\, etc. \nSunday’s adventure will begin at 8:30 a.m. in the same location\, connecting the Ridge Trail again with the Mill Stream Trail\, which is approximately 6 miles of easy to moderate hiking. \nParticipants will be responsible for lunch or snacks for the trails\, but Saturday’s dinner at approximately 5:30 p.m. will be provided in the cost to help support a local business in the Troy community. The $10 cost will cover dinner and camping at the county park. \n			\n				Register Now
URL:https://emheritage.org/event/small-business-support-hikes-mt-pisgah-county-park/
LOCATION:Mt. Pisgah County Park\, 2181 Wilcox Drive\, Troy\, Pennsylvania\, 16947
CATEGORIES:Events with Camping Options,Hiking
ATTACH;FMTTYPE=image/jpeg:https://emheritage.org/wp-content/uploads/2025/02/SBS-Hike-Mt-Pisgah.jpg
END:VEVENT
BEGIN:VEVENT
DTSTART;VALUE=DATE:20250621
DTEND;VALUE=DATE:20250623
DTSTAMP:20260424T133028
CREATED:20250218T141250Z
LAST-MODIFIED:20250506T101422Z
UID:2740-1750464000-1750636799@emheritage.org
SUMMARY:Small Business Support Hikes: Loyalsock State Forest & World’s End State Park
DESCRIPTION:Register Now\n			\n				\n				\n				\n				\n				Join the Endless Mountains Heritage Region in the Small Business Support Hike series and enjoy some scenery in Sullivan County at the Loyalsock State Forest and at World’s End State Park! \nThis two-day hike is Saturday\, June 21\, overnight into Sunday\, June 22. Participants should meet at the Bridle Trailhead along Shanersburg Road (41.43769316\, -76.6064891) for check-in by 11 a.m. to unload their camping gear and prepare for Saturday’s hike. Those traveling afar to attend this event have the option to camp at this location the evening before the event\, if needed.  \nSaturday’s hike will be an estimated 8-mile loop\, incorporating the Loyalsock and Fern Rock Nature Trails\, which is considered a moderate difficulty level for hikers. After returning from the hike on Saturday\, participants can gather around the campfire and hear stories from the Sullivan County Historical Society\, followed by fun games.  \nDinner on Saturday evening will be catered by Big Mike’s in Forksville at approximately 5:30 p.m. Camping reservations have been made by EMHR and Loyalsock State Forest officials for that evening at the Bridle Trailhead camping loop. We are asking for a $10 fee to cover the cost of dinner and camping for this event. Camping is optional and participants are free to make their own overnight lodging accommodations if they choose to do so.  \nHikers should wear appropriate clothing and footwear (hiking shoes or boots) and have a sufficient supply of water with them for the duration of both days. Overnight supplies are also needed to camp: a tent\, sleeping bag\, etc. Participants will be responsible for lunch or snacks for the trails.  \nSunday’s adventure will begin at 8:30 a.m. Participants should meet at the parking area outside of the Worlds End Main office (82 Cabin Bridge Road\, Forksville\, PA 18616) before taking the approximate 4-mile trek of the Canyon Vista Trail\, located in World’s End State Park\, which boasts beautiful scenery. This trail is considered a moderate walk\, mostly for its steep incline at the beginning of the hike and will take about 2.5 hours to complete.  \n			\n				Register Now
URL:https://emheritage.org/event/loyalsock-state-forest-and-worlds-end-state-park/
LOCATION:PA
CATEGORIES:Events with Camping Options,Hiking
ATTACH;FMTTYPE=image/jpeg:https://emheritage.org/wp-content/uploads/2025/02/SBS-Hike-Fathers-Day-Loyalsock-State-Forest.jpg
END:VEVENT
BEGIN:VEVENT
DTSTART;VALUE=DATE:20250510
DTEND;VALUE=DATE:20250512
DTSTAMP:20260424T133028
CREATED:20250218T135734Z
LAST-MODIFIED:20250402T233112Z
UID:2730-1746835200-1747007999@emheritage.org
SUMMARY:Small Business Support Hikes: Mother’s Day Hike at Salt Springs State Park
DESCRIPTION:Register Now\n			\n				\n				\n				\n				\n				Bring mom and join Endless Mountains Heritage Region at its second event in the Small Business Support Hike series at Salt Springs State Park! \nThis two-day hike is Saturday\, May 10\, 2025\, overnight into Sunday\, May 11. Participants should meet at Salt Springs State Park’s main park office\, also known as the historic Wheaton House (GPS coordinates: 41.9119\, -75.86553)\, on Saturday by 11 a.m. to sign in. Saturday\, we will travel on the 6-mile Salt Springs State Park Outer Loop Trail (considered difficult)\, and Sunday will be the Salt Springs State Park Loop\, about 3.5 miles. Sunday’s adventure will begin at 8:30 a.m.\, at the Wheaton House. Hikers should wear appropriate clothing and footwear (hiking shoes or boots) and have a sufficient supply of water with them for the duration of both days. Overnight supplies are also needed to camp: a tent\, sleeping bag\, flashlights\, etc. \nAfter returning from the hike on Saturday\, Friends of the Salt Springs State Park will do two presentations with themes of solar energy and gardening\, followed by dinner and fun games. \nParticipants will be responsible for lunch or snacks on the trails\, but dinner Saturday evening at approximately 5:30 p.m. will be provided in the $10 cost\, which will help support a small local business in the Montrose area and camping for this event. \n			\n				Register Now
URL:https://emheritage.org/event/small-business-support-hikes-mothers-day-weekend-hike-at-salt-springs-state-park/
LOCATION:Salt Lake Springs Park\, W46M+QV\, Montrose\, Pennsylvania\, 18801
CATEGORIES:Events with Camping Options,Hiking
ATTACH;FMTTYPE=image/jpeg:https://emheritage.org/wp-content/uploads/2025/02/SBS-Hike-Mothers-Day-Salt-Springs-Park.jpg
END:VEVENT
END:VCALENDAR